BEGIN:VCALENDAR
VERSION:2.0
PRODID:-//Stu Chandler Photography - ECPv6.15.20//NONSGML v1.0//EN
CALSCALE:GREGORIAN
METHOD:PUBLISH
X-WR-CALNAME:Stu Chandler Photography
X-ORIGINAL-URL:https://stuchandlerphotography.com
X-WR-CALDESC:Events for Stu Chandler Photography
REFRESH-INTERVAL;VALUE=DURATION:PT1H
X-Robots-Tag:noindex
X-PUBLISHED-TTL:PT1H
BEGIN:VTIMEZONE
TZID:America/New_York
BEGIN:DAYLIGHT
TZOFFSETFROM:-0500
TZOFFSETTO:-0400
TZNAME:EDT
DTSTART:20240310T070000
END:DAYLIGHT
BEGIN:STANDARD
TZOFFSETFROM:-0400
TZOFFSETTO:-0500
TZNAME:EST
DTSTART:20241103T060000
END:STANDARD
BEGIN:DAYLIGHT
TZOFFSETFROM:-0500
TZOFFSETTO:-0400
TZNAME:EDT
DTSTART:20250309T070000
END:DAYLIGHT
BEGIN:STANDARD
TZOFFSETFROM:-0400
TZOFFSETTO:-0500
TZNAME:EST
DTSTART:20251102T060000
END:STANDARD
BEGIN:DAYLIGHT
TZOFFSETFROM:-0500
TZOFFSETTO:-0400
TZNAME:EDT
DTSTART:20260308T070000
END:DAYLIGHT
BEGIN:STANDARD
TZOFFSETFROM:-0400
TZOFFSETTO:-0500
TZNAME:EST
DTSTART:20261101T060000
END:STANDARD
END:VTIMEZONE
BEGIN:VEVENT
DTSTART;TZID=America/New_York:20250521T080000
DTEND;TZID=America/New_York:20250711T170000
DTSTAMP:20260424T035238
CREATED:20250523T003350Z
LAST-MODIFIED:20250706T163728Z
UID:10276-1747814400-1752253200@stuchandlerphotography.com
SUMMARY:Summer Variety Online Store - Associated Artists of Pittsburgh
DESCRIPTION:The Associated Artists of Pittsburgh are holding their online store for member’s work this summer. I’m honored that three of my photographs have been juried into this show\, and one was chosen as a marquis image.
URL:https://stuchandlerphotography.com/event/associated-artists-of-pittsburgh-summer-variety-online-store/
LOCATION:Pennsylvania
CATEGORIES:Exhibitions
ATTACH;FMTTYPE=image/png:https://stuchandlerphotography.com/wp-content/uploads/2025/05/SummerVariety2025banner.png
END:VEVENT
BEGIN:VEVENT
DTSTART;TZID=America/New_York:20250709T080000
DTEND;TZID=America/New_York:20250921T170000
DTSTAMP:20260424T035238
CREATED:20250608T202204Z
LAST-MODIFIED:20250608T202302Z
UID:10350-1752048000-1758474000@stuchandlerphotography.com
SUMMARY:Pittsburgh Photography Club 140th Anniversary Exhibit at the Greene Gallery\, Oklahoma City
DESCRIPTION:The Photographic Society of America is hosting the Pittsburgh Photography Club 140th Anniversary exhibit.  I am honored to have one of my prints included as part of the Contemporary Works exhibit.  \n\n\n\nThis exhibit not only celebrates the club’s anniversary but also the Pittsburgh Photography Club donation of nearly 800 images to the Library of Congress.
URL:https://stuchandlerphotography.com/event/pittsburgh-photography-club-140th-anniversary-exhibit-at-green-gallery-oklahoma-city/
LOCATION:Greene Gallery\, 708 N Broadway St\, Oklahoma City\, Oklahoma\, 73102
ATTACH;FMTTYPE=image/png:https://stuchandlerphotography.com/wp-content/uploads/2024/08/logo2.png
END:VEVENT
END:VCALENDAR