BEGIN:VCALENDAR
VERSION:2.0
PRODID:-//Stu Chandler Photography - ECPv6.15.20//NONSGML v1.0//EN
CALSCALE:GREGORIAN
METHOD:PUBLISH
X-WR-CALNAME:Stu Chandler Photography
X-ORIGINAL-URL:https://stuchandlerphotography.com
X-WR-CALDESC:Events for Stu Chandler Photography
REFRESH-INTERVAL;VALUE=DURATION:PT1H
X-Robots-Tag:noindex
X-PUBLISHED-TTL:PT1H
BEGIN:VTIMEZONE
TZID:America/New_York
BEGIN:DAYLIGHT
TZOFFSETFROM:-0500
TZOFFSETTO:-0400
TZNAME:EDT
DTSTART:20230312T070000
END:DAYLIGHT
BEGIN:STANDARD
TZOFFSETFROM:-0400
TZOFFSETTO:-0500
TZNAME:EST
DTSTART:20231105T060000
END:STANDARD
BEGIN:DAYLIGHT
TZOFFSETFROM:-0500
TZOFFSETTO:-0400
TZNAME:EDT
DTSTART:20240310T070000
END:DAYLIGHT
BEGIN:STANDARD
TZOFFSETFROM:-0400
TZOFFSETTO:-0500
TZNAME:EST
DTSTART:20241103T060000
END:STANDARD
BEGIN:DAYLIGHT
TZOFFSETFROM:-0500
TZOFFSETTO:-0400
TZNAME:EDT
DTSTART:20250309T070000
END:DAYLIGHT
BEGIN:STANDARD
TZOFFSETFROM:-0400
TZOFFSETTO:-0500
TZNAME:EST
DTSTART:20251102T060000
END:STANDARD
END:VTIMEZONE
BEGIN:VEVENT
DTSTART;TZID=America/New_York:20241115T000000
DTEND;TZID=America/New_York:20241223T235959
DTSTAMP:20260420T040419
CREATED:20241212T232041Z
LAST-MODIFIED:20241212T232042Z
UID:10157-1731628800-1734998399@stuchandlerphotography.com
SUMMARY:Associated Artists of Pittsburgh Gallery
DESCRIPTION:Several of my prints can be seen on the walls of the Associated Artists of Pittsburgh Gallery until December 23\, and through their online store until January 6th.
URL:https://stuchandlerphotography.com/event/associated-artists-of-pittsburgh-gallery/
LOCATION:Associated Artists of Pittsburgh Exhibition Space\, 100 43rd St. Unit 107\, Pittsburgh\, PA\, 15201
END:VEVENT
END:VCALENDAR